BEGIN:VCALENDAR
VERSION:2.0
PRODID:-//CSI Parish  Abudhabi - ECPv4.9.6//NONSGML v1.0//EN
CALSCALE:GREGORIAN
METHOD:PUBLISH
X-WR-CALNAME:CSI Parish  Abudhabi
X-ORIGINAL-URL:http://www.csiabudhabi.com/eng
X-WR-CALDESC:Events for CSI Parish  Abudhabi
BEGIN:VTIMEZONE
TZID:"UTC"
BEGIN:STANDARD
TZOFFSETFROM:+0000
TZOFFSETTO:+0000
TZNAME:UTC
DTSTART:20150101T000000
END:STANDARD
END:VTIMEZONE
BEGIN:VEVENT
DTSTART;TZID="UTC":20150320T180000
DTEND;TZID="UTC":20150320T230000
DTSTAMP:20260424T133030
CREATED:20150319T160059Z
LAST-MODIFIED:20150319T163729Z
UID:389-1426874400-1426892400@www.csiabudhabi.com
SUMMARY:Service & Annual General Body
DESCRIPTION:Service & FIRST SITTING ANNUAL GENERAL BODY \n
URL:http://www.csiabudhabi.com/eng/eventsingle/389/
LOCATION:St. Andrews Church New Building Second Floor
END:VEVENT
END:VCALENDAR