BEGIN:VCALENDAR
VERSION:2.0
PRODID:-//CSI Parish  Abudhabi - ECPv4.9.6//NONSGML v1.0//EN
CALSCALE:GREGORIAN
METHOD:PUBLISH
X-WR-CALNAME:CSI Parish  Abudhabi
X-ORIGINAL-URL:http://www.csiabudhabi.com/eng
X-WR-CALDESC:Events for CSI Parish  Abudhabi
BEGIN:VTIMEZONE
TZID:"UTC"
BEGIN:STANDARD
TZOFFSETFROM:+0000
TZOFFSETTO:+0000
TZNAME:UTC
DTSTART:20150101T000000
END:STANDARD
END:VTIMEZONE
BEGIN:VEVENT
DTSTART;TZID="UTC":20150329T200000
DTEND;TZID="UTC":20150329T220000
DTSTAMP:20260424T133016
CREATED:20150319T160926Z
LAST-MODIFIED:20150319T160926Z
UID:393-1427659200-1427666400@www.csiabudhabi.com
SUMMARY:Palm Sunday
DESCRIPTION:Palm Sunday   : Guest-BishopThomas K.Oommen   \n
URL:http://www.csiabudhabi.com/eng/eventsingle/palm-sunday/
END:VEVENT
END:VCALENDAR