BEGIN:VCALENDAR
VERSION:2.0
PRODID:-//CSI Parish  Abudhabi - ECPv4.9.6//NONSGML v1.0//EN
CALSCALE:GREGORIAN
METHOD:PUBLISH
X-WR-CALNAME:CSI Parish  Abudhabi
X-ORIGINAL-URL:http://www.csiabudhabi.com/eng
X-WR-CALDESC:Events for CSI Parish  Abudhabi
BEGIN:VTIMEZONE
TZID:"UTC"
BEGIN:STANDARD
TZOFFSETFROM:+0000
TZOFFSETTO:+0000
TZNAME:UTC
DTSTART:20150101T000000
END:STANDARD
END:VTIMEZONE
BEGIN:VEVENT
DTSTART;TZID="UTC":20150402T200000
DTEND;TZID="UTC":20150402T220000
DTSTAMP:20260424T121322
CREATED:20150319T163019Z
LAST-MODIFIED:20150319T163019Z
UID:404-1428004800-1428012000@www.csiabudhabi.com
SUMMARY:Maundy Thursday Service
DESCRIPTION:Maundy Thursday Service :  Rev.Mathew Varkey  \n
URL:http://www.csiabudhabi.com/eng/eventsingle/maundy-thursday-service/
LOCATION:Mar Thoma Chapel Second Floor
END:VEVENT
END:VCALENDAR