BEGIN:VCALENDAR
VERSION:2.0
PRODID:-//CSI Parish  Abudhabi - ECPv4.9.6//NONSGML v1.0//EN
CALSCALE:GREGORIAN
METHOD:PUBLISH
X-WR-CALNAME:CSI Parish  Abudhabi
X-ORIGINAL-URL:http://www.csiabudhabi.com/eng
X-WR-CALDESC:Events for CSI Parish  Abudhabi
BEGIN:VTIMEZONE
TZID:"UTC"
BEGIN:STANDARD
TZOFFSETFROM:+0000
TZOFFSETTO:+0000
TZNAME:UTC
DTSTART:20160101T000000
END:STANDARD
END:VTIMEZONE
BEGIN:VEVENT
DTSTART;TZID="UTC":20160324T200000
DTEND;TZID="UTC":20160324T220000
DTSTAMP:20260423T180422
CREATED:20160321T151232Z
LAST-MODIFIED:20160321T151232Z
UID:549-1458849600-1458856800@www.csiabudhabi.com
SUMMARY:Maundy Thursday Worship
DESCRIPTION:
URL:http://www.csiabudhabi.com/eng/eventsingle/maundy-thursday-worship/
LOCATION:Mar Thoma Upper Chappel
END:VEVENT
END:VCALENDAR