BEGIN:VCALENDAR
VERSION:2.0
PRODID:-//CSI Parish  Abudhabi - ECPv4.9.6//NONSGML v1.0//EN
CALSCALE:GREGORIAN
METHOD:PUBLISH
X-WR-CALNAME:CSI Parish  Abudhabi
X-ORIGINAL-URL:http://www.csiabudhabi.com/eng
X-WR-CALDESC:Events for CSI Parish  Abudhabi
BEGIN:VTIMEZONE
TZID:"UTC"
BEGIN:STANDARD
TZOFFSETFROM:+0000
TZOFFSETTO:+0000
TZNAME:UTC
DTSTART:20170101T000000
END:STANDARD
END:VTIMEZONE
BEGIN:VEVENT
DTSTART;TZID="UTC":20170301T200000
DTEND;TZID="UTC":20170301T220000
DTSTAMP:20260422T222103
CREATED:20170219T125224Z
LAST-MODIFIED:20170219T131953Z
UID:666-1488398400-1488405600@www.csiabudhabi.com
SUMMARY:Ash Wednesday
DESCRIPTION:
URL:http://www.csiabudhabi.com/eng/eventsingle/ash-wednesday/
LOCATION:St. Andrews Church
END:VEVENT
END:VCALENDAR