BEGIN:VCALENDAR
VERSION:2.0
PRODID:-//CSI Parish  Abudhabi - ECPv4.9.6//NONSGML v1.0//EN
CALSCALE:GREGORIAN
METHOD:PUBLISH
X-WR-CALNAME:CSI Parish  Abudhabi
X-ORIGINAL-URL:http://www.csiabudhabi.com/eng
X-WR-CALDESC:Events for CSI Parish  Abudhabi
BEGIN:VTIMEZONE
TZID:"UTC"
BEGIN:STANDARD
TZOFFSETFROM:+0000
TZOFFSETTO:+0000
TZNAME:UTC
DTSTART:20170101T000000
END:STANDARD
END:VTIMEZONE
BEGIN:VEVENT
DTSTART;TZID="UTC":20170917T200000
DTEND;TZID="UTC":20170917T220000
DTSTAMP:20260422T121407
CREATED:20170903T071709Z
LAST-MODIFIED:20170903T071709Z
UID:830-1505678400-1505685600@www.csiabudhabi.com
SUMMARY:Building a Joyful Christian Home : Parents and Couples
DESCRIPTION: \n
URL:http://www.csiabudhabi.com/eng/eventsingle/building-a-joyful-christian-home-parents-and-couples/
LOCATION:Mar Thoma Library Hall\, Mussafah
END:VEVENT
END:VCALENDAR