BEGIN:VCALENDAR
VERSION:2.0
PRODID:-//CSI Parish  Abudhabi - ECPv4.9.6//NONSGML v1.0//EN
CALSCALE:GREGORIAN
METHOD:PUBLISH
X-WR-CALNAME:CSI Parish  Abudhabi
X-ORIGINAL-URL:http://www.csiabudhabi.com/eng
X-WR-CALDESC:Events for CSI Parish  Abudhabi
BEGIN:VTIMEZONE
TZID:"UTC"
BEGIN:STANDARD
TZOFFSETFROM:+0000
TZOFFSETTO:+0000
TZNAME:UTC
DTSTART:20180101T000000
END:STANDARD
END:VTIMEZONE
BEGIN:VEVENT
DTSTART;TZID="UTC":20180325T200000
DTEND;TZID="UTC":20180325T220000
DTSTAMP:20260422T022114
CREATED:20180302T192944Z
LAST-MODIFIED:20180302T192944Z
UID:910-1522008000-1522015200@www.csiabudhabi.com
SUMMARY:Palm Sunday
DESCRIPTION:
URL:http://www.csiabudhabi.com/eng/eventsingle/palm-sunday-2/
LOCATION:St. Andrews  Community Hall
END:VEVENT
END:VCALENDAR