BEGIN:VCALENDAR
VERSION:2.0
PRODID:-//CSI Parish  Abudhabi - ECPv4.9.6//NONSGML v1.0//EN
CALSCALE:GREGORIAN
METHOD:PUBLISH
X-WR-CALNAME:CSI Parish  Abudhabi
X-ORIGINAL-URL:http://www.csiabudhabi.com/eng
X-WR-CALDESC:Events for CSI Parish  Abudhabi
BEGIN:VTIMEZONE
TZID:"UTC"
BEGIN:STANDARD
TZOFFSETFROM:+0000
TZOFFSETTO:+0000
TZNAME:UTC
DTSTART:20190101T000000
END:STANDARD
END:VTIMEZONE
BEGIN:VEVENT
DTSTART;TZID="UTC":20190414T200000
DTEND;TZID="UTC":20190414T220000
DTSTAMP:20260421T050056
CREATED:20190407T163330Z
LAST-MODIFIED:20190407T163330Z
UID:1708-1555272000-1555279200@www.csiabudhabi.com
SUMMARY:Passion Week -Palm Sunday Service
DESCRIPTION: \n
URL:http://www.csiabudhabi.com/eng/eventsingle/passion-week-palm-sunday-service/
LOCATION:St. Andrews Church
END:VEVENT
END:VCALENDAR