BEGIN:VCALENDAR
VERSION:2.0
PRODID:-//CSI Parish  Abudhabi - ECPv4.9.6//NONSGML v1.0//EN
CALSCALE:GREGORIAN
METHOD:PUBLISH
X-WR-CALNAME:CSI Parish  Abudhabi
X-ORIGINAL-URL:http://www.csiabudhabi.com/eng
X-WR-CALDESC:Events for CSI Parish  Abudhabi
BEGIN:VTIMEZONE
TZID:"UTC"
BEGIN:STANDARD
TZOFFSETFROM:+0000
TZOFFSETTO:+0000
TZNAME:UTC
DTSTART:20160101T000000
END:STANDARD
END:VTIMEZONE
BEGIN:VEVENT
DTSTART;TZID="UTC":20161015T080000
DTEND;TZID="UTC":20161015T160000
DTSTAMP:20260423T020355
CREATED:20161009T135018Z
LAST-MODIFIED:20161009T135018Z
UID:623-1476518400-1476547200@www.csiabudhabi.com
SUMMARY:19th CSI Women's Conference
DESCRIPTION:
URL:http://www.csiabudhabi.com/eng/eventsingle/19th-csi-womens-conference/
LOCATION:St. Thomas Orthodox Hall\, Dubai
END:VEVENT
END:VCALENDAR