BEGIN:VCALENDAR
VERSION:2.0
PRODID:-//CSI Parish  Abudhabi - ECPv4.9.6//NONSGML v1.0//EN
CALSCALE:GREGORIAN
METHOD:PUBLISH
X-WR-CALNAME:CSI Parish  Abudhabi
X-ORIGINAL-URL:http://www.csiabudhabi.com/eng
X-WR-CALDESC:Events for CSI Parish  Abudhabi
BEGIN:VTIMEZONE
TZID:"UTC"
BEGIN:STANDARD
TZOFFSETFROM:+0000
TZOFFSETTO:+0000
TZNAME:UTC
DTSTART:20170101T000000
END:STANDARD
END:VTIMEZONE
BEGIN:VEVENT
DTSTART;TZID="UTC":20171005T194500
DTEND;TZID="UTC":20171005T220000
DTSTAMP:20260422T041546
CREATED:20170903T070124Z
LAST-MODIFIED:20170903T145510Z
UID:818-1507232700-1507240800@www.csiabudhabi.com
SUMMARY:Agape 2017 - Unconditional Love of God - Musical Drama
DESCRIPTION: \n
URL:http://www.csiabudhabi.com/eng/eventsingle/agape-2017-unconditional-love-of-god-musical-drama/
LOCATION:St. Joseph’s Cathedral Hall
END:VEVENT
END:VCALENDAR