BEGIN:VCALENDAR
VERSION:2.0
PRODID:-//CSI Parish  Abudhabi - ECPv4.9.6//NONSGML v1.0//EN
CALSCALE:GREGORIAN
METHOD:PUBLISH
X-WR-CALNAME:CSI Parish  Abudhabi
X-ORIGINAL-URL:http://www.csiabudhabi.com/eng
X-WR-CALDESC:Events for CSI Parish  Abudhabi
BEGIN:VTIMEZONE
TZID:"UTC"
BEGIN:STANDARD
TZOFFSETFROM:+0000
TZOFFSETTO:+0000
TZNAME:UTC
DTSTART:20160101T000000
END:STANDARD
END:VTIMEZONE
BEGIN:VEVENT
DTSTART;TZID="UTC":20160912T200000
DTEND;TZID="UTC":20160912T220000
DTSTAMP:20260423T075140
CREATED:20160907T164733Z
LAST-MODIFIED:20160907T164823Z
UID:584-1473710400-1473717600@www.csiabudhabi.com
SUMMARY:Annual Convention 2016
DESCRIPTION:
URL:http://www.csiabudhabi.com/eng/eventsingle/annual-convention-2016/
END:VEVENT
END:VCALENDAR