BEGIN:VCALENDAR
VERSION:2.0
PRODID:-//CSI Parish  Abudhabi - ECPv4.9.6//NONSGML v1.0//EN
CALSCALE:GREGORIAN
METHOD:PUBLISH
X-WR-CALNAME:CSI Parish  Abudhabi
X-ORIGINAL-URL:http://www.csiabudhabi.com/eng
X-WR-CALDESC:Events for CSI Parish  Abudhabi
BEGIN:VTIMEZONE
TZID:"UTC"
BEGIN:STANDARD
TZOFFSETFROM:+0000
TZOFFSETTO:+0000
TZNAME:UTC
DTSTART:20170101T000000
END:STANDARD
END:VTIMEZONE
BEGIN:VEVENT
DTSTART;TZID="UTC":20171023T200000
DTEND;TZID="UTC":20171023T220000
DTSTAMP:20260422T022237
CREATED:20171015T052618Z
LAST-MODIFIED:20171015T053510Z
UID:842-1508788800-1508796000@www.csiabudhabi.com
SUMMARY:Annual Convention - 2017
DESCRIPTION: \n
URL:http://www.csiabudhabi.com/eng/eventsingle/annual-convention-2017/
LOCATION:St. Andrew’s New Building (R-203\, 204\, 205)
END:VEVENT
END:VCALENDAR