BEGIN:VCALENDAR
VERSION:2.0
PRODID:-//CSI Parish  Abudhabi - ECPv4.9.6//NONSGML v1.0//EN
CALSCALE:GREGORIAN
METHOD:PUBLISH
X-WR-CALNAME:CSI Parish  Abudhabi
X-ORIGINAL-URL:http://www.csiabudhabi.com/eng
X-WR-CALDESC:Events for CSI Parish  Abudhabi
BEGIN:VTIMEZONE
TZID:"UTC"
BEGIN:STANDARD
TZOFFSETFROM:+0000
TZOFFSETTO:+0000
TZNAME:UTC
DTSTART:20150101T000000
END:STANDARD
END:VTIMEZONE
BEGIN:VEVENT
DTSTART;TZID="UTC":20151028T200000
DTEND;TZID="UTC":20151028T220000
DTSTAMP:20260424T001937
CREATED:20151026T142130Z
LAST-MODIFIED:20151026T142130Z
UID:504-1446062400-1446069600@www.csiabudhabi.com
SUMMARY:Convention
DESCRIPTION:
URL:http://www.csiabudhabi.com/eng/eventsingle/convention-3/
LOCATION:Evangelical Church
END:VEVENT
END:VCALENDAR