BEGIN:VCALENDAR
VERSION:2.0
PRODID:-//CSI Parish  Abudhabi - ECPv4.9.6//NONSGML v1.0//EN
CALSCALE:GREGORIAN
METHOD:PUBLISH
X-WR-CALNAME:CSI Parish  Abudhabi
X-ORIGINAL-URL:http://www.csiabudhabi.com/eng
X-WR-CALDESC:Events for CSI Parish  Abudhabi
BEGIN:VTIMEZONE
TZID:"UTC"
BEGIN:STANDARD
TZOFFSETFROM:+0000
TZOFFSETTO:+0000
TZNAME:UTC
DTSTART:20170101T000000
END:STANDARD
END:VTIMEZONE
BEGIN:VEVENT
DTSTART;TZID="UTC":20170416T050000
DTEND;TZID="UTC":20170416T070000
DTSTAMP:20260422T105117
CREATED:20170409T011831Z
LAST-MODIFIED:20170409T011831Z
UID:711-1492318800-1492326000@www.csiabudhabi.com
SUMMARY:Easter Service
DESCRIPTION:
URL:http://www.csiabudhabi.com/eng/eventsingle/easter-service-3/
LOCATION:St. Andrews  Community Hall
END:VEVENT
END:VCALENDAR