BEGIN:VCALENDAR
VERSION:2.0
PRODID:-//CSI Parish  Abudhabi - ECPv4.9.6//NONSGML v1.0//EN
CALSCALE:GREGORIAN
METHOD:PUBLISH
X-WR-CALNAME:CSI Parish  Abudhabi
X-ORIGINAL-URL:http://www.csiabudhabi.com/eng
X-WR-CALDESC:Events for CSI Parish  Abudhabi
BEGIN:VTIMEZONE
TZID:"UTC"
BEGIN:STANDARD
TZOFFSETFROM:+0000
TZOFFSETTO:+0000
TZNAME:UTC
DTSTART:20170101T000000
END:STANDARD
END:VTIMEZONE
BEGIN:VEVENT
DTSTART;TZID="UTC":20171027T180000
DTEND;TZID="UTC":20171027T200000
DTSTAMP:20260421T171447
CREATED:20171015T053119Z
LAST-MODIFIED:20171015T053119Z
UID:851-1509127200-1509134400@www.csiabudhabi.com
SUMMARY:Family Day
DESCRIPTION:
URL:http://www.csiabudhabi.com/eng/eventsingle/family-day/
LOCATION:St. Andrews Church
END:VEVENT
END:VCALENDAR