BEGIN:VCALENDAR
VERSION:2.0
PRODID:-//CSI Parish  Abudhabi - ECPv4.9.6//NONSGML v1.0//EN
CALSCALE:GREGORIAN
METHOD:PUBLISH
X-WR-CALNAME:CSI Parish  Abudhabi
X-ORIGINAL-URL:http://www.csiabudhabi.com/eng
X-WR-CALDESC:Events for CSI Parish  Abudhabi
BEGIN:VTIMEZONE
TZID:"UTC"
BEGIN:STANDARD
TZOFFSETFROM:+0000
TZOFFSETTO:+0000
TZNAME:UTC
DTSTART:20150101T000000
END:STANDARD
END:VTIMEZONE
BEGIN:VEVENT
DTSTART;TZID="UTC":20151029T200000
DTEND;TZID="UTC":20151029T220000
DTSTAMP:20260423T232534
CREATED:20151026T142241Z
LAST-MODIFIED:20151026T142241Z
UID:506-1446148800-1446156000@www.csiabudhabi.com
SUMMARY:Family Retreat
DESCRIPTION:
URL:http://www.csiabudhabi.com/eng/eventsingle/family-retreat/
LOCATION:Orthodox Church Hall
END:VEVENT
END:VCALENDAR