BEGIN:VCALENDAR
VERSION:2.0
PRODID:-//CSI Parish  Abudhabi - ECPv4.9.6//NONSGML v1.0//EN
CALSCALE:GREGORIAN
METHOD:PUBLISH
X-WR-CALNAME:CSI Parish  Abudhabi
X-ORIGINAL-URL:http://www.csiabudhabi.com/eng
X-WR-CALDESC:Events for CSI Parish  Abudhabi
BEGIN:VTIMEZONE
TZID:"UTC"
BEGIN:STANDARD
TZOFFSETFROM:+0000
TZOFFSETTO:+0000
TZNAME:UTC
DTSTART:20170101T000000
END:STANDARD
END:VTIMEZONE
BEGIN:VEVENT
DTSTART;TZID="UTC":20170216T193000
DTEND;TZID="UTC":20170216T220000
DTSTAMP:20260423T020452
CREATED:20170205T052421Z
LAST-MODIFIED:20170205T052421Z
UID:650-1487273400-1487282400@www.csiabudhabi.com
SUMMARY:Felicitation to CSI Moderator
DESCRIPTION:
URL:http://www.csiabudhabi.com/eng/eventsingle/felicitation-to-csi-moderator/
LOCATION:Mar Thoma Community Centre\, Mussafah
END:VEVENT
END:VCALENDAR