BEGIN:VCALENDAR
VERSION:2.0
PRODID:-//CSI Parish  Abudhabi - ECPv4.9.6//NONSGML v1.0//EN
CALSCALE:GREGORIAN
METHOD:PUBLISH
X-WR-CALNAME:CSI Parish  Abudhabi
X-ORIGINAL-URL:http://www.csiabudhabi.com/eng
X-WR-CALDESC:Events for CSI Parish  Abudhabi
BEGIN:VTIMEZONE
TZID:"UTC"
BEGIN:STANDARD
TZOFFSETFROM:+0000
TZOFFSETTO:+0000
TZNAME:UTC
DTSTART:20160101T000000
END:STANDARD
END:VTIMEZONE
BEGIN:VEVENT
DTSTART;TZID="UTC":20160325T080000
DTEND;TZID="UTC":20160325T110000
DTSTAMP:20260423T104352
CREATED:20160321T151341Z
LAST-MODIFIED:20160321T151341Z
UID:551-1458892800-1458903600@www.csiabudhabi.com
SUMMARY:Good Friday Service
DESCRIPTION:
URL:http://www.csiabudhabi.com/eng/eventsingle/good-friday-service/
LOCATION:St. Andrews  Community Hall
END:VEVENT
END:VCALENDAR