BEGIN:VCALENDAR
VERSION:2.0
PRODID:-//CSI Parish  Abudhabi - ECPv4.9.6//NONSGML v1.0//EN
CALSCALE:GREGORIAN
METHOD:PUBLISH
X-WR-CALNAME:CSI Parish  Abudhabi
X-ORIGINAL-URL:http://www.csiabudhabi.com/eng
X-WR-CALDESC:Events for CSI Parish  Abudhabi
BEGIN:VTIMEZONE
TZID:"UTC"
BEGIN:STANDARD
TZOFFSETFROM:+0000
TZOFFSETTO:+0000
TZNAME:UTC
DTSTART:20150101T000000
END:STANDARD
END:VTIMEZONE
BEGIN:VEVENT
DTSTART;TZID="UTC":20151021T200000
DTEND;TZID="UTC":20151021T220000
DTSTAMP:20260424T021505
CREATED:20151026T140847Z
LAST-MODIFIED:20151026T140847Z
UID:492-1445457600-1445464800@www.csiabudhabi.com
SUMMARY:Leader's Retreat (All Committees)
DESCRIPTION:
URL:http://www.csiabudhabi.com/eng/eventsingle/leaders-retreat-all-committees/
LOCATION:St. Andrews Chappel
END:VEVENT
END:VCALENDAR