BEGIN:VCALENDAR
VERSION:2.0
PRODID:-//CSI Parish  Abudhabi - ECPv4.9.6//NONSGML v1.0//EN
CALSCALE:GREGORIAN
METHOD:PUBLISH
X-WR-CALNAME:CSI Parish  Abudhabi
X-ORIGINAL-URL:http://www.csiabudhabi.com/eng
X-WR-CALDESC:Events for CSI Parish  Abudhabi
BEGIN:VTIMEZONE
TZID:"UTC"
BEGIN:STANDARD
TZOFFSETFROM:+0000
TZOFFSETTO:+0000
TZNAME:UTC
DTSTART:20160101T000000
END:STANDARD
END:VTIMEZONE
BEGIN:VEVENT
DTSTART;TZID="UTC":20160322T200000
DTEND;TZID="UTC":20160322T220000
DTSTAMP:20260423T152630
CREATED:20160321T150830Z
LAST-MODIFIED:20160321T150830Z
UID:547-1458676800-1458684000@www.csiabudhabi.com
SUMMARY:Passion Week Meditation
DESCRIPTION:
URL:http://www.csiabudhabi.com/eng/eventsingle/passion-week-meditation-5/
LOCATION:St. Andrews  Community Hall
END:VEVENT
END:VCALENDAR