BEGIN:VCALENDAR
VERSION:2.0
PRODID:-//CSI Parish  Abudhabi - ECPv4.9.6//NONSGML v1.0//EN
CALSCALE:GREGORIAN
METHOD:PUBLISH
X-WR-CALNAME:CSI Parish  Abudhabi
X-ORIGINAL-URL:http://www.csiabudhabi.com/eng
X-WR-CALDESC:Events for CSI Parish  Abudhabi
BEGIN:VTIMEZONE
TZID:"UTC"
BEGIN:STANDARD
TZOFFSETFROM:+0000
TZOFFSETTO:+0000
TZNAME:UTC
DTSTART:20150101T000000
END:STANDARD
END:VTIMEZONE
BEGIN:VEVENT
DTSTART;TZID="UTC":20151023T100000
DTEND;TZID="UTC":20151023T123000
DTSTAMP:20260424T021331
CREATED:20151026T141405Z
LAST-MODIFIED:20151026T141405Z
UID:497-1445594400-1445603400@www.csiabudhabi.com
SUMMARY:Prayer Meeting
DESCRIPTION:
URL:http://www.csiabudhabi.com/eng/eventsingle/prayer-meeting/
LOCATION:Parsonage
END:VEVENT
END:VCALENDAR