BEGIN:VCALENDAR
VERSION:2.0
PRODID:-//CSI Parish  Abudhabi - ECPv4.9.6//NONSGML v1.0//EN
CALSCALE:GREGORIAN
METHOD:PUBLISH
X-WR-CALNAME:CSI Parish  Abudhabi
X-ORIGINAL-URL:http://www.csiabudhabi.com/eng
X-WR-CALDESC:Events for CSI Parish  Abudhabi
BEGIN:VTIMEZONE
TZID:"UTC"
BEGIN:STANDARD
TZOFFSETFROM:+0000
TZOFFSETTO:+0000
TZNAME:UTC
DTSTART:20180101T000000
END:STANDARD
END:VTIMEZONE
BEGIN:VEVENT
DTSTART;TZID="UTC":20180615T160000
DTEND;TZID="UTC":20180615T200000
DTSTAMP:20260421T094344
CREATED:20180507T132606Z
LAST-MODIFIED:20180708T055215Z
UID:927-1529078400-1529092800@www.csiabudhabi.com
SUMMARY:SUNDAY SCHOOL ANNIVERSARY
DESCRIPTION:
URL:http://www.csiabudhabi.com/eng/eventsingle/sunday-school-anniversary-2/
LOCATION:St. Andrews  Community Hall
END:VEVENT
END:VCALENDAR