BEGIN:VCALENDAR
VERSION:2.0
PRODID:-//CSI Parish  Abudhabi - ECPv4.9.6//NONSGML v1.0//EN
CALSCALE:GREGORIAN
METHOD:PUBLISH
X-WR-CALNAME:CSI Parish  Abudhabi
X-ORIGINAL-URL:http://www.csiabudhabi.com/eng
X-WR-CALDESC:Events for CSI Parish  Abudhabi
BEGIN:VTIMEZONE
TZID:"UTC"
BEGIN:STANDARD
TZOFFSETFROM:+0000
TZOFFSETTO:+0000
TZNAME:UTC
DTSTART:20170101T000000
END:STANDARD
END:VTIMEZONE
BEGIN:VEVENT
DTSTART;TZID="UTC":20170616T160000
DTEND;TZID="UTC":20170616T200000
DTSTAMP:20260422T090942
CREATED:20170604T135150Z
LAST-MODIFIED:20170604T135150Z
UID:783-1497628800-1497643200@www.csiabudhabi.com
SUMMARY:Sunday School Anniversary
DESCRIPTION:Sunday School Anniversary after Matins Service \n
URL:http://www.csiabudhabi.com/eng/eventsingle/sunday-school-anniversary/
LOCATION:St. Andrews  Community Hall
END:VEVENT
END:VCALENDAR