BEGIN:VCALENDAR
VERSION:2.0
PRODID:-//CSI Parish  Abudhabi - ECPv4.9.6//NONSGML v1.0//EN
CALSCALE:GREGORIAN
METHOD:PUBLISH
X-WR-CALNAME:CSI Parish  Abudhabi
X-ORIGINAL-URL:http://www.csiabudhabi.com/eng
X-WR-CALDESC:Events for CSI Parish  Abudhabi
BEGIN:VTIMEZONE
TZID:"UTC"
BEGIN:STANDARD
TZOFFSETFROM:+0000
TZOFFSETTO:+0000
TZNAME:UTC
DTSTART:20170101T000000
END:STANDARD
END:VTIMEZONE
BEGIN:VEVENT
DTSTART;TZID="UTC":20170831T090000
DTEND;TZID="UTC":20170831T160000
DTSTAMP:20260422T042056
CREATED:20170820T070234Z
LAST-MODIFIED:20170830T041700Z
UID:803-1504170000-1504195200@www.csiabudhabi.com
SUMMARY:UAE Youth Conference 2017
DESCRIPTION:
URL:http://www.csiabudhabi.com/eng/eventsingle/uae-youth-conference-dubai-tentative/
LOCATION:CSI Parish Dubai
END:VEVENT
END:VCALENDAR